BEGIN:VCALENDAR
PRODID:-//kirchenweb.ch gmbh//veranstaltungsausgabe v2.0//DE
VERSION:2.0
METHOD:PUBLISH
BEGIN:VEVENT
DTSTART:20260906T073000Z
DTEND:20260906T083000Z
LOCATION:in der Grossen Kirche\, Kirchgasse 2\, 3250 Lyss
TRANSP:OPAQUE
SEQUENCE:0
UID:81535-veranstaltung@kirchenregion-aarberg.ch
DTSTAMP:20260410T084102Z
DESCRIPTION:An der Orgel spielt Robert Märki\, Mitwirkung Kirchenchor
 \nhttps://www.blutstammzellspende.ch/de\nCaféglise im Anschluss an den
  Gottesdienst im alten Pfarrhaus.\n\nKontakt: Pfr. Guido Jutzi\n\nWeitere
  Infos: https://www.kirchenregion-aarberg.ch/veranstaltung/81535
SUMMARY:Gottesdienst
PRIORITY:5
X-MICROSOFT-CDO-IMPORTANCE:1
CLASS:PUBLIC
END:VEVENT
END:VCALENDAR
