BEGIN:VCALENDAR
PRODID:-//kirchenweb.ch gmbh//veranstaltungsausgabe v2.0//DE
VERSION:2.0
METHOD:PUBLISH
BEGIN:VEVENT
DTSTART:20260823T073000Z
DTEND:20260823T083000Z
LOCATION:in der Grossen Kirche\, Kirchgasse 2\, 3250 Lyss
TRANSP:OPAQUE
SEQUENCE:0
UID:81533-veranstaltung@kirchenregion-aarberg.ch
DTSTAMP:20260410T083930Z
DESCRIPTION:An der Orgel spielt Robert Märki \nhttps://www.berghilfe.ch//
 \n\n\nKontakt: Diensthabender Pfarrer ext. Vertretung\n\nWeitere Infos:
  https://www.kirchenregion-aarberg.ch/veranstaltung/81533
SUMMARY:Gottesdienst
PRIORITY:5
X-MICROSOFT-CDO-IMPORTANCE:1
CLASS:PUBLIC
END:VEVENT
END:VCALENDAR
