BEGIN:VCALENDAR
PRODID:-//kirchenweb.ch gmbh//veranstaltungsausgabe v2.0//DE
VERSION:2.0
METHOD:PUBLISH
BEGIN:VEVENT
DTSTART:20260524T073000Z
DTEND:20260524T083000Z
LOCATION:in der Grossen Kirche\, Kirchgasse 2\, 3250 Lyss
TRANSP:OPAQUE
SEQUENCE:0
UID:81520-veranstaltung@kirchenregion-aarberg.ch
DTSTAMP:20260122T133818Z
DESCRIPTION:An der Orgel spielt Robert Märki \nKollekte: Gesamtkirchliche
  Kollekte für sozialdiakonische Werke in unserem Kirchengebiet
 \nCaféglise im Anschluss an den Gottesdienst im alten Pfarrhaus.\n\n
 \nKontakt: Pfrn. Geraldine Walther\n\nWeitere Infos:
  https://www.kirchenregion-aarberg.ch/veranstaltung/81520
SUMMARY:Pfingstgottesdienst mit Abendmahl
PRIORITY:5
X-MICROSOFT-CDO-IMPORTANCE:1
CLASS:PUBLIC
END:VEVENT
END:VCALENDAR
