BEGIN:VCALENDAR
PRODID:-//kirchenweb.ch gmbh//veranstaltungsausgabe v2.0//DE
VERSION:2.0
METHOD:PUBLISH
BEGIN:VEVENT
DTSTART:20260503T073000Z
DTEND:20260503T083000Z
LOCATION:in der Grossen Kirche\, Kirchgasse 2\, 3250 Lyss
TRANSP:OPAQUE
SEQUENCE:0
UID:81517-veranstaltung@kirchenregion-aarberg.ch
DTSTAMP:20251218T074755Z
DESCRIPTION:An der Orgel spielt Robert Märki \n\n\n\nKontakt: Pfrn.
  Geraldine Walther\n\nWeitere Infos:
  https://www.kirchenregion-aarberg.ch/veranstaltung/81517
SUMMARY:Konfirmations-Gottesdienst
PRIORITY:5
X-MICROSOFT-CDO-IMPORTANCE:1
CLASS:PUBLIC
END:VEVENT
END:VCALENDAR
