BEGIN:VCALENDAR
PRODID:-//kirchenweb.ch gmbh//veranstaltungsausgabe v2.0//DE
VERSION:2.0
METHOD:PUBLISH
BEGIN:VEVENT
DTSTART:20260605T173000Z
DTEND:20260605T190000Z
LOCATION:in der Grossen Kirche\, Kirchgasse 2\, 3250 Lyss
TRANSP:OPAQUE
SEQUENCE:0
UID:81344-veranstaltung@kirchenregion-aarberg.ch
DTSTAMP:20260410T082342Z
DESCRIPTION:An der Orgel spielt Käthi Werder
 \nhttps://app.spheriq.ch/organisation/chindernetz-kanton-bern\n\nKontakt:
  Pfrn. Geraldine Walther\n\nWeitere Infos:
  https://www.kirchenregion-aarberg.ch/veranstaltung/81344
SUMMARY:KUW4 - Abenmahlsgottesdienst
PRIORITY:5
X-MICROSOFT-CDO-IMPORTANCE:1
CLASS:PUBLIC
END:VEVENT
END:VCALENDAR
